BEGIN:VCALENDAR
VERSION:2.0
PRODID:icalendar-ruby
CALSCALE:GREGORIAN
METHOD:PUBLISH
BEGIN:VEVENT
DTSTAMP:20260422T222956Z
UID:20-170883@theoasishampton.com
DTSTART:20260913T150000Z
DTEND:20260913T160000Z
CLASS:PUBLIC
CREATED:20260422T171200
DESCRIPTION:Sunday Worship – Live Online\nJoin us every Sunday morning fo
 r a powerful time of worship and the Word—right here\, live on Facebook.
  Lift your heart in praise with our worship team\, and then lean in as we 
 dive into a life-changing message from God’s Word. Whether you’re at h
 ome\, traveling\, or tuning in from across the world\, you’re part of ou
 r church family.\n When: Every Sunday Morning\n Time: Worship begins at 11
 :00 am\n Where: Live right here on our site\n \nCome ready to worship\, b
 e encouraged\, and encounter the presence of the Lord!
LAST-MODIFIED:20260422T171200
LOCATION:https://theoasishampton.com/live
SUMMARY:Live Stream
URL;VALUE=URI:https://www.theoasishampton.com/events/live-stream/2026-09-13
ATTACH;FILENAME=F041EC23-63CE-4DD9-BA70-22B85780F36A.png;FMTTYPE=image/png:
 https://dq5pwpg1q8ru0.cloudfront.net/2025/08/11/03/43/35/1ce5b7a3-63dc-48a
 e-b5ca-fd8b415b5213/F041EC23-63CE-4DD9-BA70-22B85780F36A.png
END:VEVENT
END:VCALENDAR
